Workbook

Sheet 26（１）
A1: 26 刑法犯 罪種別 被害者の年齢・性別 認知件数 （１）
F2: 総数 | G2: 人の被害の計 | I2: 0歳～5歳 | K2: ６歳～１２歳 | M2: １３歳～１９歳 | O2: ２０歳～２４歳 | Q2: ２５歳～２９歳 | S2: ３０歳～３９歳 | U2: ４０歳～４９歳
A3: 罪 種 | H3: うち） | J3: うち） | L3: うち） | N3: うち） | P3: うち） | R3: うち） | T3: うち） | V3: うち） | X3: 数値チェック | Y3: 人の被害
H4: 女 | J4: 女 | L4: 女 | N4: 女 | P4: 女 | R4: 女 | T4: 女 | V4: 女 | X4: 全体 | Y4: 女
A5: 刑法犯総数 | F5: 10692 | G5: 7538 | H5: 2705 | I5: 9 | J5: 4 | K5: 102 | L5: 45 | M5: 1458 | N5: 457 | O5: 707 | P5: 297 | Q5: 553 | R5: 222 | S5: 874 | T5: 327 | U5: 919 | V5: 304 | X5: =I5+K5+'26（１）'!M5+O5+Q5+S5+U5+'26（２）'!F5+'26（２）'!H5+'26（２）'!J5+'26（２）'!L5+'26（２）'!N5 -> 7538 | Y5: =J5+L5+N5+P5+R5+T5+V5+'26（２）'!G5+'26（２）'!I5+'26（２）'!K5+'26（２）'!M5+'26（２）'!O5 -> 2705
A6: 凶悪犯 | F6: 73 | G6: 70 | H6: 52 | K6: 5 | L6: 5 | M6: 29 | N6: 23 | O6: 10 | P6: 10 | Q6: 3 | R6: 3 | S6: 6 | T6: 3 | U6: 5 | V6: 2 | X6: =I6+K6+'26（１）'!M6+O6+Q6+S6+U6+'26（２）'!F6+'26（２）'!H6+'26（２）'!J6+'26（２）'!L6+'26（２）'!N6 -> 70 | Y6: =J6+L6+N6+P6+R6+T6+V6+'26（２）'!G6+'26（２）'!I6+'26（２）'!K6+'26（２）'!M6+'26（２）'!O6 -> 52
B7: 殺 人 | F7: 10 | G7: 10 | H7: 5 | M7: 1 | O7: 1 | P7: 1 | U7: 3 | V7: 1 | X7: =I7+K7+'26（１）'!M7+O7+Q7+S7+U7+'26（２）'!F7+'26（２）'!H7+'26（２）'!J7+'26（２）'!L7+'26（２）'!N7 -> 10 | Y7: =J7+L7+N7+P7+R7+T7+V7+'26（２）'!G7+'26（２）'!I7+'26（２）'!K7+'26（２）'!M7+'26（２）'!O7 -> 5
C8: 殺人 | F8: 10 | G8: 10 | H8: 5 | M8: 1 | O8: 1 | P8: 1 | U8: 3 | V8: 1 | X8: =I8+K8+'26（１）'!M8+O8+Q8+S8+U8+'26（２）'!F8+'26（２）'!H8+'26（２）'!J8+'26（２）'!L8+'26（２）'!N8 -> 10 | Y8: =J8+L8+N8+P8+R8+T8+V8+'26（２）'!G8+'26（２）'!I8+'26（２）'!K8+'26（２）'!M8+'26（２）'!O8 -> 5
C9: 嬰児殺 | G9: 0 | H9: 0 | X9: =I9+K9+'26（１）'!M9+O9+Q9+S9+U9+'26（２）'!F9+'26（２）'!H9+'26（２）'!J9+'26（２）'!L9+'26（２）'!N9 -> 0 | Y9: =J9+L9+N9+P9+R9+T9+V9+'26（２）'!G9+'26（２）'!I9+'26（２）'!K9+'26（２）'!M9+'26（２）'!O9 -> 0
C10: 組織的殺人 | G10: 0 | H10: 0 | X10: =I10+K10+'26（１）'!M10+O10+Q10+S10+U10+'26（２）'!F10+'26（２）'!H10+'26（２）'!J10+'26（２）'!L10+'26（２）'!N10 -> 0 | Y10: =J10+L10+N10+P10+R10+T10+V10+'26（２）'!G10+'26（２）'!I10+'26（２）'!K10+'26（２）'!M10+'26（２）'!O10 -> 0
C11: 組織的嬰児殺 | G11: 0 | H11: 0 | X11: =I11+K11+'26（１）'!M11+O11+Q11+S11+U11+'26（２）'!F11+'26（２）'!H11+'26（２）'!J11+'26（２）'!L11+'26（２）'!N11 -> 0 | Y11: =J11+L11+N11+P11+R11+T11+V11+'26（２）'!G11+'26（２）'!I11+'26（２）'!K11+'26（２）'!M11+'26（２）'!O11 -> 0
C12: 殺人予備 | G12: 0 | H12: 0 | X12: =I12+K12+'26（１）'!M12+O12+Q12+S12+U12+'26（２）'!F12+'26（２）'!H12+'26（２）'!J12+'26（２）'!L12+'26（２）'!N12 -> 0 | Y12: =J12+L12+N12+P12+R12+T12+V12+'26（２）'!G12+'26（２）'!I12+'26（２）'!K12+'26（２）'!M12+'26（２）'!O12 -> 0
C13: 自殺関与・同意殺人 | G13: 0 | H13: 0 | X13: =I13+K13+'26（１）'!M13+O13+Q13+S13+U13+'26（２）'!F13+'26（２）'!H13+'26（２）'!J13+'26（２）'!L13+'26（２）'!N13 -> 0 | Y13: =J13+L13+N13+P13+R13+T13+V13+'26（２）'!G13+'26（２）'!I13+'26（２）'!K13+'26（２）'!M13+'26（２）'!O13 -> 0
B14: 強盗 | F14: 7 | G14: 7 | H14: 2 | M14: 1 | N14: 1 | S14: 3 | T14: 1 | U14: 1 | X14: =I14+K14+'26（１）'!M14+O14+Q14+S14+U14+'26（２）'!F14+'26（２）'!H14+'26（２）'!J14+'26（２）'!L14+'26（２）'!N14 -> 7 | Y14: =J14+L14+N14+P14+R14+T14+V14+'26（２）'!G14+'26（２）'!I14+'26（２）'!K14+'26（２）'!M14+'26（２）'!O14 -> 2
C15: 強盗殺人 | G15: 0 | H15: 0 | X15: =I15+K15+'26（１）'!M15+O15+Q15+S15+U15+'26（２）'!F15+'26（２）'!H15+'26（２）'!J15+'26（２）'!L15+'26（２）'!N15 -> 0 | Y15: =J15+L15+N15+P15+R15+T15+V15+'26（２）'!G15+'26（２）'!I15+'26（２）'!K15+'26（２）'!M15+'26（２）'!O15 -> 0 | AA15: ＢＩ
C16: 強盗傷人 | F16: 3 | G16: 3 | H16: 1 | S16: 2 | T16: 1 | U16: 1 | X16: =I16+K16+'26（１）'!M16+O16+Q16+S16+U16+'26（２）'!F16+'26（２）'!H16+'26（２）'!J16+'26（２）'!L16+'26（２）'!N16 -> 3 | Y16: =J16+L16+N16+P16+R16+T16+V16+'26（２）'!G16+'26（２）'!I16+'26（２）'!K16+'26（２）'!M16+'26（２）'!O16 -> 1
C17: 強盗・不同意性交等 | F17: 1 | G17: 1 | H17: 1 | M17: 1 | N17: 1 | X17: =I17+K17+'26（１）'!M17+O17+Q17+S17+U17+'26（２）'!F17+'26（２）'!H17+'26（２）'!J17+'26（２）'!L17+'26（２）'!N17 -> 1 | Y17: =J17+L17+N17+P17+R17+T17+V17+'26（２）'!G17+'26（２）'!I17+'26（２）'!K17+'26（２）'!M17+'26（２）'!O17 -> 1 | AA17: Ｐ99～P100（旧Ｐ131～132）注意！！！その他の刑法犯件数 26表 罪種別 被害者の年齢・性別 認知件数
C18: 強盗・準強盗 | F18: 3 | G18: 3 | H18: 0 | S18: 1 | X18: =I18+K18+'26（１）'!M18+O18+Q18+S18+U18+'26（２）'!F18+'26（２）'!H18+'26（２）'!J18+'26（２）'!L18+'26（２）'!N18 -> 3 | Y18: =J18+L18+N18+P18+R18+T18+V18+'26（２）'!G18+'26（２）'!I18+'26（２）'!K18+'26（２）'!M18+'26（２）'!O18 -> 0
B19: 放火 | F19: 9 | G19: 6 | H19: 3 | S19: 2 | T19: 1 | X19: =I19+K19+'26（１）'!M19+O19+Q19+S19+U19+'26（２）'!F19+'26（２）'!H19+'26（２）'!J19+'26（２）'!L19+'26（２）'!N19 -> 6 | Y19: =J19+L19+N19+P19+R19+T19+V19+'26（２）'!G19+'26（２）'!I19+'26（２）'!K19+'26（２）'!M19+'26（２）'!O19 -> 3
B20: 不同意性交等 | F20: 47 | G20: 47 | H20: 42 | K20: 5 | L20: 5 | M20: 27 | N20: 22 | O20: 9 | P20: 9 | Q20: 3 | R20: 3 | S20: 1 | T20: 1 | U20: 1 | V20: 1 | X20: =I20+K20+'26（１）'!M20+O20+Q20+S20+U20+'26（２）'!F20+'26（２）'!H20+'26（２）'!J20+'26（２）'!L20+'26（２）'!N20 -> 47 | Y20: =J20+L20+N20+P20+R20+T20+V20+'26（２）'!G20+'26（２）'!I20+'26（２）'!K20+'26（２）'!M20+'26（２）'!O20 -> 42 | AA20: C015
A21: 粗暴犯 | F21: 620 | G21: 619 | H21: 269 | I21: 5 | J21: 2 | K21: 19 | L21: 5 | M21: 112 | N21: 30 | O21: 64 | P21: 30 | Q21: 63 | R21: 34 | S21: 100 | T21: 54 | U21: 89 | V21: 40 | X21: =I21+K21+'26（１）'!M21+O21+Q21+S21+U21+'26（２）'!F21+'26（２）'!H21+'26（２）'!J21+'26（２）'!L21+'26（２）'!N21 -> 619 | Y21: =J21+L21+N21+P21+R21+T21+V21+'26（２）'!G21+'26（２）'!I21+'26（２）'!K21+'26（２）'!M21+'26（２）'!O21 -> 269
B22: 凶器準備集合 | G22: 0 | H22: 0 | X22: =I22+K22+'26（１）'!M22+O22+Q22+S22+U22+'26（２）'!F22+'26（２）'!H22+'26（２）'!J22+'26（２）'!L22+'26（２）'!N22 -> 0 | Y22: =J22+L22+N22+P22+R22+T22+V22+'26（２）'!G22+'26（２）'!I22+'26（２）'!K22+'26（２）'!M22+'26（２）'!O22 -> 0
B23: 暴行 | F23: 325 | G23: 325 | H23: 184 | I23: 1 | J23: 1 | K23: 9 | L23: 1 | M23: 49 | N23: 19 | O23: 28 | P23: 19 | Q23: 35 | R23: 23 | S23: 63 | T23: 40 | U23: 48 | V23: 28 | X23: =I23+K23+'26（１）'!M23+O23+Q23+S23+U23+'26（２）'!F23+'26（２）'!H23+'26（２）'!J23+'26（２）'!L23+'26（２）'!N23 -> 325 | Y23: =J23+L23+N23+P23+R23+T23+V23+'26（２）'!G23+'26（２）'!I23+'26（２）'!K23+'26（２）'!M23+'26（２）'!O23 -> 184
B24: 傷害 | F24: 246 | G24: 246 | H24: 69 | I24: 4 | J24: 1 | K24: 10 | L24: 4 | M24: 53 | N24: 7 | O24: 26 | P24: 8 | Q24: 22 | R24: 6 | S24: 31 | T24: 14 | U24: 35 | V24: 10 | X24: =I24+K24+'26（１）'!M24+O24+Q24+S24+U24+'26（２）'!F24+'26（２）'!H24+'26（２）'!J24+'26（２）'!L24+'26（２）'!N24 -> 246 | Y24: =J24+L24+N24+P24+R24+T24+V24+'26（２）'!G24+'26（２）'!I24+'26（２）'!K24+'26（２）'!M24+'26（２）'!O24 -> 69
C25: うち） | E25: 傷害致死 | F25: 2 | G25: 2 | H25: 1 | X25: =I25+K25+'26（１）'!M25+O25+Q25+S25+U25+'26（２）'!F25+'26（２）'!H25+'26（２）'!J25+'26（２）'!L25+'26（２）'!N25 -> 2 | Y25: =J25+L25+N25+P25+R25+T25+V25+'26（２）'!G25+'26（２）'!I25+'26（２）'!K25+'26（２）'!M25+'26（２）'!O25 -> 1
B26: 脅迫 | F26: 33 | G26: 32 | H26: 13 | M26: 7 | N26: 4 | O26: 3 | P26: 2 | Q26: 5 | R26: 5 | S26: 5 | U26: 5 | V26: 1 | X26: =I26+K26+'26（１）'!M26+O26+Q26+S26+U26+'26（２）'!F26+'26（２）'!H26+'26（２）'!J26+'26（２）'!L26+'26（２）'!N26 -> 32 | Y26: =J26+L26+N26+P26+R26+T26+V26+'26（２）'!G26+'26（２）'!I26+'26（２）'!K26+'26（２）'!M26+'26（２）'!O26 -> 13
B27: 恐喝 | F27: 16 | G27: 16 | H27: 3 | M27: 3 | O27: 7 | P27: 1 | Q27: 1 | S27: 1 | U27: 1 | V27: 1 | X27: =I27+K27+'26（１）'!M27+O27+Q27+S27+U27+'26（２）'!F27+'26（２）'!H27+'26（２）'!J27+'26（２）'!L27+'26（２）'!N27 -> 16 | Y27: =J27+L27+N27+P27+R27+T27+V27+'26（２）'!G27+'26（２）'!I27+'26（２）'!K27+'26（２）'!M27+'26（２）'!O27 -> 3
A28: 窃盗犯 | F28: 7126 | G28: 4584 | H28: 1395 | K28: 52 | L28: 16 | M28: 1168 | N28: 307 | O28: 476 | P28: 172 | Q28: 299 | R28: 90 | S28: 456 | T28: 147 | U28: 491 | V28: 131 | X28: =I28+K28+'26（１）'!M28+O28+Q28+S28+U28+'26（２）'!F28+'26（２）'!H28+'26（２）'!J28+'26（２）'!L28+'26（２）'!N28 -> 4584 | Y28: =J28+L28+N28+P28+R28+T28+V28+'26（２）'!G28+'26（２）'!I28+'26（２）'!K28+'26（２）'!M28+'26（２）'!O28 -> 1395
B29: 侵入盗 | F29: 1288 | G29: 915 | H29: 295 | M29: 8 | N29: 3 | O29: 14 | P29: 6 | Q29: 14 | R29: 2 | S29: 65 | T29: 15 | U29: 94 | V29: 23 | X29: =I29+K29+'26（１）'!M29+O29+Q29+S29+U29+'26（２）'!F29+'26（２）'!H29+'26（２）'!J29+'26（２）'!L29+'26（２）'!N29 -> 915 | Y29: =J29+L29+N29+P29+R29+T29+V29+'26（２）'!G29+'26（２）'!I29+'26（２）'!K29+'26（２）'!M29+'26（２）'!O29 -> 295
B30: 乗り物盗 | F30: 2119 | G30: 2077 | H30: 598 | K30: 44 | L30: 14 | M30: 1044 | N30: 261 | O30: 313 | P30: 112 | Q30: 164 | R30: 50 | S30: 170 | T30: 51 | U30: 128 | V30: 40 | X30: =I30+K30+'26（１）'!M30+O30+Q30+S30+U30+'26（２）'!F30+'26（２）'!H30+'26（２）'!J30+'26（２）'!L30+'26（２）'!N30 -> 2077 | Y30: =J30+L30+N30+P30+R30+T30+V30+'26（２）'!G30+'26（２）'!I30+'26（２）'!K30+'26（２）'!M30+'26（２）'!O30 -> 598
B31: 非侵入盗 | F31: 3719 | G31: 1592 | H31: 502 | K31: 8 | L31: 2 | M31: 116 | N31: 43 | O31: 149 | P31: 54 | Q31: 121 | R31: 38 | S31: 221 | T31: 81 | U31: 269 | V31: 68 | X31: =I31+K31+'26（１）'!M31+O31+Q31+S31+U31+'26（２）'!F31+'26（２）'!H31+'26（２）'!J31+'26（２）'!L31+'26（２）'!N31 -> 1592 | Y31: =J31+L31+N31+P31+R31+T31+V31+'26（２）'!G31+'26（２）'!I31+'26（２）'!K31+'26（２）'!M31+'26（２）'!O31 -> 502
A32: 知能犯 | F32: 1381 | G32: 1176 | H32: 485 | M32: 13 | N32: 6 | O32: 76 | P32: 42 | Q32: 86 | R32: 34 | S32: 172 | T32: 68 | U32: 185 | V32: 72 | X32: =I32+K32+'26（１）'!M32+O32+Q32+S32+U32+'26（２）'!F32+'26（２）'!H32+'26（２）'!J32+'26（２）'!L32+'26（２）'!N32 -> 1176 | Y32: =J32+L32+N32+P32+R32+T32+V32+'26（２）'!G32+'26（２）'!I32+'26（２）'!K32+'26（２）'!M32+'26（２）'!O32 -> 485
B33: 詐欺 | F33: 1315 | G33: 1166 | H33: 482 | M33: 13 | N33: 6 | O33: 76 | P33: 42 | Q33: 86 | R33: 34 | S33: 169 | T33: 67 | U33: 181 | V33: 71 | X33: =I33+K33+'26（１）'!M33+O33+Q33+S33+U33+'26（２）'!F33+'26（２）'!H33+'26（２）'!J33+'26（２）'!L33+'26（２）'!N33 -> 1166 | Y33: =J33+L33+N33+P33+R33+T33+V33+'26（２）'!G33+'26（２）'!I33+'26（２）'!K33+'26（２）'!M33+'26（２）'!O33 -> 482
B34: 横領 | F34: 32 | G34: 7 | H34: 1 | S34: 2 | U34: 3 | V34: 1 | X34: =I34+K34+'26（１）'!M34+O34+Q34+S34+U34+'26（２）'!F34+'26（２）'!H34+'26（２）'!J34+'26（２）'!L34+'26（２）'!N34 -> 7 | Y34: =J34+L34+N34+P34+R34+T34+V34+'26（２）'!G34+'26（２）'!I34+'26（２）'!K34+'26（２）'!M34+'26（２）'!O34 -> 1
C35: 横領 | F35: 14 | G35: 2 | H35: 1 | U35: 2 | V35: 1 | X35: =I35+K35+'26（１）'!M35+O35+Q35+S35+U35+'26（２）'!F35+'26（２）'!H35+'26（２）'!J35+'26（２）'!L35+'26（２）'!N35 -> 2 | Y35: =J35+L35+N35+P35+R35+T35+V35+'26（２）'!G35+'26（２）'!I35+'26（２）'!K35+'26（２）'!M35+'26（２）'!O35 -> 1
C36: 業務上横領 | F36: 18 | G36: 5 | H36: 0 | S36: 2 | U36: 1 | X36: =I36+K36+'26（１）'!M36+O36+Q36+S36+U36+'26（２）'!F36+'26（２）'!H36+'26（２）'!J36+'26（２）'!L36+'26（２）'!N36 -> 5 | Y36: =J36+L36+N36+P36+R36+T36+V36+'26（２）'!G36+'26（２）'!I36+'26（２）'!K36+'26（２）'!M36+'26（２）'!O36 -> 0
B37: 偽造 | F37: 27 | G37: 3 | H37: 2 | S37: 1 | T37: 1 | U37: 1 | X37: =I37+K37+'26（１）'!M37+O37+Q37+S37+U37+'26（２）'!F37+'26（２）'!H37+'26（２）'!J37+'26（２）'!L37+'26（２）'!N37 -> 3 | Y37: =J37+L37+N37+P37+R37+T37+V37+'26（２）'!G37+'26（２）'!I37+'26（２）'!K37+'26（２）'!M37+'26（２）'!O37 -> 2
C38: うち） | E38: 通貨偽造 | F38: 2 | G38: 0 | H38: 0 | X38: =I38+K38+'26（１）'!M38+O38+Q38+S38+U38+'26（２）'!F38+'26（２）'!H38+'26（２）'!J38+'26（２）'!L38+'26（２）'!N38 -> 0 | Y38: =J38+L38+N38+P38+R38+T38+V38+'26（２）'!G38+'26（２）'!I38+'26（２）'!K38+'26（２）'!M38+'26（２）'!O38 -> 0
C39: うち） | E39: 文書偽造 | F39: 23 | G39: 3 | H39: 2 | S39: 1 | T39: 1 | U39: 1 | X39: =I39+K39+'26（１）'!M39+O39+Q39+S39+U39+'26（２）'!F39+'26（２）'!H39+'26（２）'!J39+'26（２）'!L39+'26（２）'!N39 -> 3 | Y39: =J39+L39+N39+P39+R39+T39+V39+'26（２）'!G39+'26（２）'!I39+'26（２）'!K39+'26（２）'!M39+'26（２）'!O39 -> 2
C40: うち） | E40: 支払用カード偽造 | G40: 0 | H40: 0 | X40: =I40+K40+'26（１）'!M40+O40+Q40+S40+U40+'26（２）'!F40+'26（２）'!H40+'26（２）'!J40+'26（２）'!L40+'26（２）'!N40 -> 0 | Y40: =J40+L40+N40+P40+R40+T40+V40+'26（２）'!G40+'26（２）'!I40+'26（２）'!K40+'26（２）'!M40+'26（２）'!O40 -> 0
...

Sheet 26（２）
A1: 26 刑法犯 罪種別 被害者の年齢・性別 認知件数 （２）
F2: ５０歳～５９歳 | H2: ６０歳～６４歳 | J2: ６５歳～６９歳 | L2: ７０歳以上 | N2: 年齢不明 | P2: 法人・団体 | Q2: 被害者なし
A3: 罪 種 | G3: うち） | I3: うち） | K3: うち） | M3: うち） | O3: うち） | S3: 数値チェック
G4: 女 | I4: 女 | K4: 女 | M4: 女 | O4: 女 | S4: 全体 | T4: 合計
A5: 刑法犯総数 | F5: 1027 | G5: 334 | H5: 490 | I5: 150 | J5: 440 | K5: 161 | L5: 951 | M5: 400 | N5: 8 | O5: 4 | P5: 3094 | Q5: 60 | S5: ='26（１）'!X5 -> 7538 | T5: =S5+P5+Q5 -> 10692
A6: 凶悪犯 | F6: 3 | G6: 2 | H6: 1 | L6: 8 | M6: 4 | P6: 2 | Q6: 1 | S6: ='26（１）'!X6 -> 70 | T6: =S6+P6+Q6 -> 73
B7: 殺 人 | F7: 2 | G7: 1 | L7: 3 | M7: 2 | S7: ='26（１）'!X7 -> 10 | T7: =S7+P7+Q7 -> 10
C8: 殺人 | F8: 2 | G8: 1 | L8: 3 | M8: 2 | S8: ='26（１）'!X8 -> 10 | T8: =S8+P8+Q8 -> 10
C9: 嬰児殺 | S9: ='26（１）'!X9 -> 0 | T9: =S9+P9+Q9 -> 0
C10: 組織的殺人 | S10: ='26（１）'!X10 -> 0 | T10: =S10+P10+Q10 -> 0
C11: 組織的嬰児殺 | S11: ='26（１）'!X11 -> 0 | T11: =S11+P11+Q11 -> 0
C12: 殺人予備 | S12: ='26（１）'!X12 -> 0 | T12: =S12+P12+Q12 -> 0
C13: 自殺関与・同意殺人 | S13: ='26（１）'!X13 -> 0 | T13: =S13+P13+Q13 -> 0
B14: 強盗 | L14: 2 | S14: ='26（１）'!X14 -> 7 | T14: =S14+P14+Q14 -> 7
C15: 強盗殺人 | S15: ='26（１）'!X15 -> 0 | T15: =S15+P15+Q15 -> 0
C16: 強盗傷人 | S16: ='26（１）'!X16 -> 3 | T16: =S16+P16+Q16 -> 3
C17: 強盗・不同意性交等 | S17: ='26（１）'!X17 -> 1 | T17: =S17+P17+Q17 -> 1 | W17: ＢＩ
C18: 強盗・準強盗 | L18: 2 | S18: ='26（１）'!X18 -> 3 | T18: =S18+P18+Q18 -> 3
B19: 放火 | H19: 1 | L19: 3 | M19: 2 | P19: 2 | Q19: 1 | S19: ='26（１）'!X19 -> 6 | T19: =S19+P19+Q19 -> 9 | W19: Ｐ99～P100（旧Ｐ131～132）注意！！！その他の刑法犯件数 26表 罪種別 被害者の年齢・性別 認知件数
B20: 不同意性交等 | F20: 1 | G20: 1 | S20: ='26（１）'!X20 -> 47 | T20: =S20+P20+Q20 -> 47
A21: 粗暴犯 | F21: 88 | G21: 37 | H21: 17 | I21: 6 | J21: 24 | K21: 6 | L21: 38 | M21: 25 | P21: 1 | S21: ='26（１）'!X21 -> 619 | T21: =S21+P21+Q21 -> 620
B22: 凶器準備集合 | S22: ='26（１）'!X22 -> 0 | T22: =S22+P22+Q22 -> 0 | W22: C015
B23: 暴行 | F23: 49 | G23: 27 | H23: 13 | I23: 6 | J23: 10 | K23: 4 | L23: 20 | M23: 16 | S23: ='26（１）'!X23 -> 325 | T23: =S23+P23+Q23 -> 325
B24: 傷害 | F24: 31 | G24: 9 | H24: 4 | J24: 14 | K24: 2 | L24: 16 | M24: 8 | S24: ='26（１）'!X24 -> 246 | T24: =S24+P24+Q24 -> 246
C25: うち） | E25: 傷害致死 | J25: 1 | L25: 1 | M25: 1 | S25: ='26（１）'!X25 -> 2 | T25: =S25+P25+Q25 -> 2
B26: 脅迫 | F26: 7 | G26: 1 | P26: 1 | S26: ='26（１）'!X26 -> 32 | T26: =S26+P26+Q26 -> 33
B27: 恐喝 | F27: 1 | L27: 2 | M27: 1 | S27: ='26（１）'!X27 -> 16 | T27: =S27+P27+Q27 -> 16
A28: 窃盗犯 | F28: 526 | G28: 137 | H28: 273 | I28: 74 | J28: 246 | K28: 83 | L28: 597 | M28: 238 | P28: 2542 | S28: ='26（１）'!X28 -> 4584 | T28: =S28+P28+Q28 -> 7126
B29: 侵入盗 | F29: 176 | G29: 54 | H29: 136 | I29: 42 | J29: 111 | K29: 36 | L29: 297 | M29: 114 | P29: 373 | S29: ='26（１）'!X29 -> 915 | T29: =S29+P29+Q29 -> 1288
B30: 乗り物盗 | F30: 107 | G30: 28 | H30: 28 | I30: 7 | J30: 21 | K30: 8 | L30: 58 | M30: 27 | P30: 42 | S30: ='26（１）'!X30 -> 2077 | T30: =S30+P30+Q30 -> 2119
B31: 非侵入盗 | F31: 243 | G31: 55 | H31: 109 | I31: 25 | J31: 114 | K31: 39 | L31: 242 | M31: 97 | P31: 2127 | S31: ='26（１）'!X31 -> 1592 | T31: =S31+P31+Q31 -> 3719
A32: 知能犯 | F32: 234 | G32: 85 | H32: 117 | I32: 43 | J32: 127 | K32: 59 | L32: 166 | M32: 76 | P32: 190 | Q32: 15 | S32: ='26（１）'!X32 -> 1176 | T32: =S32+P32+Q32 -> 1381
B33: 詐欺 | F33: 231 | G33: 84 | H33: 117 | I33: 43 | J33: 127 | K33: 59 | L33: 166 | M33: 76 | P33: 149 | S33: ='26（１）'!X33 -> 1166 | T33: =S33+P33+Q33 -> 1315
B34: 横領 | F34: 2 | P34: 25 | S34: ='26（１）'!X34 -> 7 | T34: =S34+P34+Q34 -> 32
C35: 横領 | P35: 12 | S35: ='26（１）'!X35 -> 2 | T35: =S35+P35+Q35 -> 14
C36: 業務上横領 | F36: 2 | P36: 13 | S36: ='26（１）'!X36 -> 5 | T36: =S36+P36+Q36 -> 18
B37: 偽造 | F37: 1 | G37: 1 | P37: 15 | Q37: 9 | S37: ='26（１）'!X37 -> 3 | T37: =S37+P37+Q37 -> 27
C38: うち） | E38: 通貨偽造 | P38: 2 | S38: ='26（１）'!X38 -> 0 | T38: =S38+P38+Q38 -> 2
C39: うち） | E39: 文書偽造 | F39: 1 | G39: 1 | P39: 12 | Q39: 8 | S39: ='26（１）'!X39 -> 3 | T39: =S39+P39+Q39 -> 23
C40: うち） | E40: 支払用カード偽造 | S40: ='26（１）'!X40 -> 0 | T40: =S40+P40+Q40 -> 0
...

Sheet 27（１）
A1: 27 刑法犯 罪種別 死傷被害者数（１）
D2: 区 分 | E2: 死 傷 被 害 者 数
E3: 総 数 | G3: 死 者 | I3: 重傷者 | K3: 軽傷者
F4: うち） | H4: うち） | J4: うち） | L4: うち）
C5: 罪 種 | F5: 女 | H5: 女 | J5: 女 | L5: 女
A6: 刑法犯総数 | E6: 303 | F6: 93 | G6: 16 | H6: 6 | I6: 46 | J6: 17 | K6: 241 | L6: 70
A7: 凶悪犯 | E7: 16 | F7: 10 | G7: 6 | H7: 4 | I7: 1 | J7: 1 | K7: 9 | L7: 5
B8: 殺人 | E8: 9 | F8: 5 | G8: 6 | H8: 4 | I8: 0 | J8: 0 | K8: 3 | L8: 1
C9: 殺人 | E9: 9 | F9: 5 | G9: 6 | H9: 4 | I9: 0 | J9: 0 | K9: 3 | L9: 1
C10: 嬰児殺 | E10: 0 | F10: 0 | G10: 0 | H10: 0 | I10: 0 | J10: 0 | K10: 0 | L10: 0
C11: 組織的殺人 | E11: 0 | F11: 0 | G11: 0 | H11: 0 | I11: 0 | J11: 0 | K11: 0 | L11: 0
C12: 組織的嬰児殺 | E12: 0 | F12: 0 | G12: 0 | H12: 0 | I12: 0 | J12: 0 | K12: 0 | L12: 0
C13: 殺人予備 | E13: 0 | F13: 0 | G13: 0 | H13: 0 | I13: 0 | J13: 0 | K13: 0 | L13: 0
C14: 自殺関与・同意殺人 | E14: 0 | F14: 0 | G14: 0 | H14: 0 | I14: 0 | J14: 0 | K14: 0 | L14: 0
B15: 強盗 | E15: 3 | F15: 1 | G15: 0 | H15: 0 | I15: 1 | J15: 1 | K15: 2 | L15: 0 | O15: Ｃ００２
C16: 強盗殺人 | E16: 0 | F16: 0 | G16: 0 | H16: 0 | I16: 0 | J16: 0 | K16: 0 | L16: 0
C17: 強盗傷人 | E17: 3 | F17: 1 | G17: 0 | H17: 0 | I17: 1 | J17: 1 | K17: 2 | L17: 0 | O17: P001
C18: 強盗・不同意性交等 | E18: 0 | F18: 0 | G18: 0 | H18: 0 | I18: 0 | J18: 0 | K18: 0 | L18: 0 | O18: P002
C19: 強盗・準強盗 | E19: 0 | F19: 0 | G19: 0 | H19: 0 | I19: 0 | J19: 0 | K19: 0 | L19: 0
B20: 放火 | E20: 0 | F20: 0 | G20: 0 | H20: 0 | I20: 0 | J20: 0 | K20: 0 | L20: 0
B21: 不同意性交等 | E21: 4 | F21: 4 | G21: 0 | H21: 0 | I21: 0 | J21: 0 | K21: 4 | L21: 4
A22: 粗暴犯 | E22: 259 | F22: 72 | G22: 2 | H22: 1 | I22: 34 | J22: 14 | K22: 223 | L22: 57
B23: 凶器準備集合 | E23: 0 | F23: 0 | G23: 0 | H23: 0 | I23: 0 | J23: 0 | K23: 0 | L23: 0
B24: 暴行 | E24: 0 | F24: 0 | G24: 0 | H24: 0 | I24: 0 | J24: 0 | K24: 0 | L24: 0
B25: 傷害 | E25: 259 | F25: 72 | G25: 2 | H25: 1 | I25: 34 | J25: 14 | K25: 223 | L25: 57
C26: うち） | D26: 傷害致死 | E26: 2 | F26: 1 | G26: 2 | H26: 1 | I26: 0 | J26: 0 | K26: 0 | L26: 0
B27: 脅迫 | E27: 0 | F27: 0 | G27: 0 | H27: 0 | I27: 0 | J27: 0 | K27: 0 | L27: 0
B28: 恐喝 | E28: 0 | F28: 0 | G28: 0 | H28: 0 | I28: 0 | J28: 0 | K28: 0 | L28: 0
A29: 窃盗犯 | E29: 0 | F29: 0 | G29: 0 | H29: 0 | I29: 0 | J29: 0 | K29: 0 | L29: 0
B30: 侵入窃盗 | E30: 0 | F30: 0 | G30: 0 | H30: 0 | I30: 0 | J30: 0 | K30: 0 | L30: 0
B31: 乗り物盗 | E31: 0 | F31: 0 | G31: 0 | H31: 0 | I31: 0 | J31: 0 | K31: 0 | L31: 0
B32: 非侵入窃盗 | E32: 0 | F32: 0 | G32: 0 | H32: 0 | I32: 0 | J32: 0 | K32: 0 | L32: 0
A33: 知能犯 | E33: 0 | F33: 0 | G33: 0 | H33: 0 | I33: 0 | J33: 0 | K33: 0 | L33: 0
B34: 詐欺 | E34: 0 | F34: 0 | G34: 0 | H34: 0 | I34: 0 | J34: 0 | K34: 0 | L34: 0
B35: 横領 | E35: 0 | F35: 0 | G35: 0 | H35: 0 | I35: 0 | J35: 0 | K35: 0 | L35: 0
C36: うち） | D36: 業務上横領 | E36: 0 | F36: 0 | G36: 0 | H36: 0 | I36: 0 | J36: 0 | K36: 0 | L36: 0
B37: 偽造 | E37: 0 | F37: 0 | G37: 0 | H37: 0 | I37: 0 | J37: 0 | K37: 0 | L37: 0
C38: 通貨偽造 | E38: 0 | F38: 0 | G38: 0 | H38: 0 | I38: 0 | J38: 0 | K38: 0 | L38: 0
C39: 文書偽造 | E39: 0 | F39: 0 | G39: 0 | H39: 0 | I39: 0 | J39: 0 | K39: 0 | L39: 0
C40: 支払用カード偽造 | E40: 0 | F40: 0 | G40: 0 | H40: 0 | I40: 0 | J40: 0 | K40: 0 | L40: 0
...

Sheet 27（２）
A1: 27 刑法犯 罪種別 死傷被害者数（２）
D2: 区 分 | E2: 死 傷 被 害 者 数
E3: 総 数 | G3: 死 者 | I3: 重傷者 | K3: 軽傷者
F4: うち） | H4: うち） | J4: うち） | L4: うち）
D5: 罪 種 | F5: 女 | H5: 女 | J5: 女 | L5: 女
A6: そ の 他 の 刑 法 犯 | E6: 23 | F6: 6 | G6: 8 | H6: 1 | I6: 11 | J6: 2 | K6: 4 | L6: 3
B7: 占 有 離 脱 物 横 領 | E7: 0 | F7: 0 | G7: 0 | H7: 0 | I7: 0 | J7: 0 | K7: 0 | L7: 0
B8: 危険運転致死傷 | E8: 0 | F8: 0 | G8: 0 | H8: 0 | I8: 0 | J8: 0 | K8: 0 | L8: 0
B9: 過 失 傷 害 | E9: 4 | F9: 4 | G9: 0 | H9: 0 | I9: 1 | J9: 1 | K9: 3 | L9: 3
B10: 過 失 致 死 | E10: 0 | F10: 0 | G10: 0 | H10: 0 | I10: 0 | J10: 0 | K10: 0 | L10: 0
B11: 業務上等過失致死傷 | E11: 17 | F11: 1 | G11: 7 | H11: 0 | I11: 10 | J11: 1 | K11: 0 | L11: 0
B12: 内 乱 | E12: 0 | F12: 0 | G12: 0 | H12: 0 | I12: 0 | J12: 0 | K12: 0 | L12: 0
B13: 外 患 | E13: 0 | F13: 0 | G13: 0 | H13: 0 | I13: 0 | J13: 0 | K13: 0 | L13: 0
B14: 国 交 | E14: 0 | F14: 0 | G14: 0 | H14: 0 | I14: 0 | J14: 0 | K14: 0 | L14: 0
B15: 公 務 執 行 妨 害 | E15: 0 | F15: 0 | G15: 0 | H15: 0 | I15: 0 | J15: 0 | K15: 0 | L15: 0
B16: 逃 走 | E16: 0 | F16: 0 | G16: 0 | H16: 0 | I16: 0 | J16: 0 | K16: 0 | L16: 0 | O16: Ｃ００２
B17: 犯 人 蔵 匿・証 拠 隠 滅 | E17: 0 | F17: 0 | G17: 0 | H17: 0 | I17: 0 | J17: 0 | K17: 0 | L17: 0
B18: 騒 乱 | E18: 0 | F18: 0 | G18: 0 | H18: 0 | I18: 0 | J18: 0 | K18: 0 | L18: 0 | O18: P002
B19: 失 火 | E19: 0 | F19: 0 | G19: 0 | H19: 0 | I19: 0 | J19: 0 | K19: 0 | L19: 0
B20: 劇 物 破 裂 ・ガ ス 漏 出 | E20: 0 | F20: 0 | G20: 0 | H20: 0 | I20: 0 | J20: 0 | K20: 0 | L20: 0
B21: 出 水 ・水 利 妨 害 | E21: 0 | F21: 0 | G21: 0 | H21: 0 | I21: 0 | J21: 0 | K21: 0 | L21: 0
B22: 往 来 妨 害 | E22: 0 | F22: 0 | G22: 0 | H22: 0 | I22: 0 | J22: 0 | K22: 0 | L22: 0
B23: 住 居 侵 入 | E23: 0 | F23: 0 | G23: 0 | H23: 0 | I23: 0 | J23: 0 | K23: 0 | L23: 0
B24: 秘 密 侵 害 | E24: 0 | F24: 0 | G24: 0 | H24: 0 | I24: 0 | J24: 0 | K24: 0 | L24: 0
B25: あ へ ん 煙 吸 食 所 持 | E25: 0 | F25: 0 | G25: 0 | H25: 0 | I25: 0 | J25: 0 | K25: 0 | L25: 0
B26: 飲 料 水 汚 染 | E26: 0 | F26: 0 | G26: 0 | H26: 0 | I26: 0 | J26: 0 | K26: 0 | L26: 0
B27: 偽 証 | E27: 0 | F27: 0 | G27: 0 | H27: 0 | I27: 0 | J27: 0 | K27: 0 | L27: 0
B28: 虚 偽 告 訴 | E28: 0 | F28: 0 | G28: 0 | H28: 0 | I28: 0 | J28: 0 | K28: 0 | L28: 0
B29: 淫行勧誘・重婚 | E29: 0 | F29: 0 | G29: 0 | H29: 0 | I29: 0 | J29: 0 | K29: 0 | L29: 0
B30: 富 く じ | E30: 0 | F30: 0 | G30: 0 | H30: 0 | I30: 0 | J30: 0 | K30: 0 | L30: 0
... B55: 公衆等資金提供等処罰法 | E55: 0 | F55: 0 | G55: 0 | H55: 0 | I55: 0 | J55: 0 | K55: 0 | L55: 0
E56: 0 | F56: 0 | G56: 0 | H56: 0 | I56: 0 | J56: 0 | K56: 0 | L56: 0
E57: 0
E58: 0
E59: 0

Sheet 28(1)
B1: 28 財産犯 被害額・被害回復額 対前年比較及び被害品別 認知・検挙件数（１）
U2: 「被害回復額・検挙件数は、
U3: 発生地計上方式による。」
E5: 品 目 | H5: 総金額（千円） | M5: 現金 | Q5: 銃砲 | R5: クロスボウ | S5: 刀剣類 | T5: 火薬・ 爆薬類 | U5: 毒物・ 劇物類 | V5: 乗用 自動車 | W5: 貨物 自動車 | X5: 特殊自動車（建設用）
D6: 被害・ | K6: 件数 | N6: 金額（千円）
D7: 被害回復 | H7: 令和７年 | I7: 令和６年 | J7: 増減 | K7: 令和７年 | L7: 令和６年 | M7: 増 減 | N7: 令和７年 | O7: 令和６年 | P7: 増減
A8: 罪 種 | D8: 認知・検挙 | J8: 金額 | M8: 件 数 | P8: 金額 | Q8: 件数 | R8: 件数 | S8: 件数 | T8: 件数 | U8: 件数 | V8: 件数 | W8: 件数 | X8: 件数
B9: 総 数 | D9: 被害額 | F9: 計 | H9: 6908343 | I9: 6002259 | J9: 906084 | K9: 2072 | L9: 2071 | M9: 1 | N9: 4214703 | O9: 3810356 | P9: 404347 | Q9: 0 | R9: 0 | S9: 0 | T9: 0 | U9: 0 | V9: 76 | W9: 21 | X9: 3
D10: 認知件数 | F10: うち）既届 | H10: 6839366 | I10: 5703688 | J10: 1135678 | K10: 1939 | L10: 2007 | M10: -68 | N10: 4164688 | O10: 3576969 | P10: 587719 | Q10: 0 | R10: 0 | S10: 0 | T10: 0 | U10: 0 | V10: 76 | W10: 21 | X10: 3
D11: 被害回復額 | F11: 計 | H11: 110518 | I11: 269543 | J11: -159025 | K11: 192 | L11: 189 | M11: 3 | N11: 46317 | O11: 62211 | P11: -15894 | Q11: 0 | R11: 0 | S11: 1 | T11: 0 | U11: 0 | V11: 32 | W11: 16 | X11: 1
D12: 検挙件数 | F12: うち）既届 | H12: 85708 | I12: 245438 | J12: -159730 | K12: 183 | L12: 174 | M12: 9 | N12: 33583 | O12: 39459 | P12: -5876 | Q12: 0 | R12: 0 | S12: 1 | T12: 0 | U12: 0 | V12: 31 | W12: 16 | X12: 1
B13: 強 盗 | D13: 被害額 | F13: 計 | H13: 90 | I13: 412 | J13: -322 | K13: 3 | L13: 4 | M13: -1 | N13: 53 | O13: 228 | P13: -175 | Q13: 0 | R13: 0 | S13: 0 | T13: 0 | U13: 0 | V13: 0 | W13: 0 | X13: 0
D14: 認知件数 | F14: うち）既届 | H14: 90 | I14: 412 | J14: -322 | K14: 3 | L14: 4 | M14: -1 | N14: 53 | O14: 228 | P14: -175 | Q14: 0 | R14: 0 | S14: 0 | T14: 0 | U14: 0 | V14: 0 | W14: 0 | X14: 0 | AB14: Ｃ０４０
D15: 被害回復額 | F15: 計 | H15: 52 | I15: 2 | J15: 50 | K15: 1 | L15: 0 | M15: 1 | N15: 34 | O15: 0 | P15: 34 | Q15: 0 | R15: 0 | S15: 0 | T15: 0 | U15: 0 | V15: 0 | W15: 0 | X15: 0 | AB15: Ｐ００１
D16: 検挙件数 | F16: うち）既届 | H16: 52 | I16: 2 | J16: 50 | K16: 1 | L16: 0 | M16: 1 | N16: 34 | O16: 0 | P16: 34 | Q16: 0 | R16: 0 | S16: 0 | T16: 0 | U16: 0 | V16: 0 | W16: 0 | X16: 0
B17: 恐 喝 | D17: 被害額 | F17: 計 | H17: 3070 | I17: 1248 | J17: 1822 | K17: 9 | L17: 7 | M17: 2 | N17: 2929 | O17: 577 | P17: 2352 | Q17: 0 | R17: 0 | S17: 0 | T17: 0 | U17: 0 | V17: 0 | W17: 0 | X17: 0
D18: 認知件数 | F18: うち）既届 | H18: 3070 | I18: 1248 | J18: 1822 | K18: 9 | L18: 7 | M18: 2 | N18: 2929 | O18: 577 | P18: 2352 | Q18: 0 | R18: 0 | S18: 0 | T18: 0 | U18: 0 | V18: 0 | W18: 0 | X18: 0
D19: 被害回復額 | F19: 計 | H19: 730 | I19: 41 | J19: 689 | K19: 4 | L19: 0 | M19: 4 | N19: 730 | O19: 0 | P19: 730 | Q19: 0 | R19: 0 | S19: 0 | T19: 0 | U19: 0 | V19: 0 | W19: 0 | X19: 0
D20: 検挙件数 | F20: うち）既届 | H20: 730 | I20: 41 | J20: 689 | K20: 4 | L20: 0 | M20: 4 | N20: 730 | O20: 0 | P20: 730 | Q20: 0 | R20: 0 | S20: 0 | T20: 0 | U20: 0 | V20: 0 | W20: 0 | X20: 0
B21: 窃 盗 | D21: 被害額 | F21: 計 | H21: 1323629 | I21: 1678165 | J21: -354536 | K21: 1122 | L21: 1176 | M21: -54 | N21: 172771 | O21: 390286 | P21: -217515 | Q21: 0 | R21: 0 | S21: 0 | T21: 0 | U21: 0 | V21: 66 | W21: 17 | X21: 3
D22: 認知件数 | F22: うち）既届 | H22: 1302127 | I22: 1481425 | J22: -179298 | K22: 1004 | L22: 1134 | M22: -130 | N22: 158156 | O22: 235488 | P22: -77332 | Q22: 0 | R22: 0 | S22: 0 | T22: 0 | U22: 0 | V22: 66 | W22: 17 | X22: 3
D23: 被害回復額 | F23: 計 | H23: 46758 | I23: 83808 | J23: -37050 | K23: 134 | L23: 142 | M23: -8 | N23: 4363 | O23: 39897 | P23: -35534 | Q23: 0 | R23: 0 | S23: 1 | T23: 0 | U23: 0 | V23: 22 | W23: 14 | X23: 1
D24: 検挙件数 | F24: うち）既届 | H24: 46460 | I24: 62235 | J24: -15775 | K24: 132 | L24: 133 | M24: -1 | N24: 4360 | O24: 19272 | P24: -14912 | Q24: 0 | R24: 0 | S24: 1 | T24: 0 | U24: 0 | V24: 21 | W24: 14 | X24: 1
B25: 侵入盗 | D25: 被害額 | F25: 計 | H25: 464748 | I25: 793860 | J25: -329112 | K25: 434 | L25: 423 | M25: 11 | N25: 110308 | O25: 252028 | P25: -141720 | Q25: 0 | R25: 0 | S25: 0 | T25: 0 | U25: 0 | V25: 2 | W25: 1 | X25: 0
D26: 認知件数 | F26: うち）既届 | H26: 460080 | I26: 711216 | J26: -251136 | K26: 355 | L26: 411 | M26: -56 | N26: 109156 | O26: 171099 | P26: -61943 | Q26: 0 | R26: 0 | S26: 0 | T26: 0 | U26: 0 | V26: 2 | W26: 1 | X26: 0
D27: 被害回復額 | F27: 計 | H27: 9239 | I27: 44244 | J27: -35005 | K27: 5 | L27: 11 | M27: -6 | N27: 420 | O27: 32750 | P27: -32330 | Q27: 0 | R27: 0 | S27: 0 | T27: 0 | U27: 0 | V27: 1 | W27: 0 | X27: 0
D28: 検挙件数 | F28: うち）既届 | H28: 9237 | I28: 24793 | J28: -15556 | K28: 5 | L28: 9 | M28: -4 | N28: 420 | O28: 13339 | P28: -12919 | Q28: 0 | R28: 0 | S28: 0 | T28: 0 | U28: 0 | V28: 1 | W28: 0 | X28: 0
B29: 乗り物盗 | D29: 被害額 | F29: 計 | H29: 354564 | I29: 244674 | J29: 109890 | K29: 15 | L29: 22 | M29: -7 | N29: 576 | O29: 899 | P29: -323 | Q29: 0 | R29: 0 | S29: 0 | T29: 0 | U29: 0 | V29: 64 | W29: 16 | X29: 3
D30: 認知件数 | F30: うち）既届 | H30: 354245 | I30: 242045 | J30: 112200 | K30: 15 | L30: 20 | M30: -5 | N30: 576 | O30: 743 | P30: -167 | Q30: 0 | R30: 0 | S30: 0 | T30: 0 | U30: 0 | V30: 64 | W30: 16 | X30: 3
D31: 被害回復額 | F31: 計 | H31: 25583 | I31: 10624 | J31: 14959 | K31: 4 | L31: 1 | M31: 3 | N31: 177 | O31: 7 | P31: 170 | Q31: 0 | R31: 0 | S31: 0 | T31: 0 | U31: 0 | V31: 20 | W31: 14 | X31: 1
D32: 検挙件数 | F32: うち）既届 | H32: 25408 | I32: 10475 | J32: 14933 | K32: 4 | L32: 1 | M32: 3 | N32: 177 | O32: 7 | P32: 170 | Q32: 0 | R32: 0 | S32: 0 | T32: 0 | U32: 0 | V32: 19 | W32: 14 | X32: 1
B33: 非侵入盗 | D33: 被害額 | F33: 計 | H33: 504317 | I33: 639631 | J33: -135314 | K33: 673 | L33: 731 | M33: -58 | N33: 61887 | O33: 137359 | P33: -75472 | Q33: 0 | R33: 0 | S33: 0 | T33: 0 | U33: 0 | V33: 0 | W33: 0 | X33: 0
D34: 認知件数 | F34: うち）既届 | H34: 487802 | I34: 528164 | J34: -40362 | K34: 634 | L34: 703 | M34: -69 | N34: 48424 | O34: 63646 | P34: -15222 | Q34: 0 | R34: 0 | S34: 0 | T34: 0 | U34: 0 | V34: 0 | W34: 0 | X34: 0
D35: 被害回復額 | F35: 計 | H35: 11936 | I35: 28940 | J35: -17004 | K35: 125 | L35: 130 | M35: -5 | N35: 3766 | O35: 7140 | P35: -3374 | Q35: 0 | R35: 0 | S35: 1 | T35: 0 | U35: 0 | V35: 1 | W35: 0 | X35: 0
D36: 検挙件数 | F36: うち）既届 | H36: 11815 | I36: 26967 | J36: -15152 | K36: 123 | L36: 123 | M36: 0 | N36: 3763 | O36: 5926 | P36: -2163 | Q36: 0 | R36: 0 | S36: 1 | T36: 0 | U36: 0 | V36: 1 | W36: 0 | X36: 0
B37: 詐 欺 | D37: 被害額 | F37: 計 | H37: 5543757 | I37: 4177802 | J37: 1365955 | K37: 893 | L37: 811 | M37: 82 | N37: 4023414 | O37: 3287544 | P37: 735870 | Q37: 0 | R37: 0 | S37: 0 | T37: 0 | U37: 0 | V37: 1 | W37: 0 | X37: 0
D38: 認知件数 | F38: うち）既届 | H38: 5496761 | I38: 4086878 | J38: 1409883 | K38: 879 | L38: 795 | M38: 84 | N38: 3988018 | O38: 3219039 | P38: 768979 | Q38: 0 | R38: 0 | S38: 0 | T38: 0 | U38: 0 | V38: 1 | W38: 0 | X38: 0
D39: 被害回復額 | F39: 計 | H39: 51260 | I39: 175345 | J39: -124085 | K39: 25 | L39: 12 | M39: 13 | N39: 38472 | O39: 18772 | P39: 19700 | Q39: 0 | R39: 0 | S39: 0 | T39: 0 | U39: 0 | V39: 0 | W39: 0 | X39: 0
D40: 検挙件数 | F40: うち）既届 | H40: 27127 | I40: 173242 | J40: -146115 | K40: 18 | L40: 9 | M40: 9 | N40: 25741 | O40: 16672 | P40: 9069 | Q40: 0 | R40: 0 | S40: 0 | T40: 0 | U40: 0 | V40: 0 | W40: 0 | X40: 0
B41: 横 領 | D41: 被害額 | F41: 計 | H41: 36006 | I41: 140673 | J41: -104667 | K41: 15 | L41: 33 | M41: -18 | N41: 14785 | O41: 130596 | P41: -115811 | Q41: 0 | R41: 0 | S41: 0 | T41: 0 | U41: 0 | V41: 9 | W41: 4 | X41: 0
...

Sheet 28(2)
B1: 28 財産犯 被害額・被害回復額 対前年比較及び被害品別 認知・検挙件数（２）
T2: 「被害回復額・検挙件数は、
T3: 発生地計上方式による。」
E5: 品 目 | H5: 特殊自動車（その他） | I5: その他の 自動車 | J5: 自動二輪 | K5: 原動機付 自転車 | L5: 特定小型電動機付自転車 | M5: 自転車 | N5: タイヤ・ホイール | O5: ナンバー プレート | P5: カーナビ | Q5: 車両用バッテリー | R5: その他の 車両用部品 | S5: 家電製品類 | T5: カメラ類 | U5: 携帯電話 | V5: ゲーム機 | W5: パソコン | X5: 建設機械
D6: 被害・
D7: 被害回復
A8: 罪 種 | D8: 認知・検挙 | H8: 件数 | I8: 件数 | J8: 件数 | K8: 件数 | L8: 件数 | M8: 件数 | N8: 件数 | O8: 件数 | P8: 件数 | Q8: 件数 | R8: 件数 | S8: 件数 | T8: 件数 | U8: 件数 | V8: 件数 | W8: 件数 | X8: 件数
B9: 総 数 | D9: 被害額 | F9: 計 | H9: 3 | I9: 1 | J9: 29 | K9: 132 | L9: 1 | M9: 1904 | N9: 151 | O9: 138 | P9: 7 | Q9: 18 | R9: 117 | S9: 85 | T9: 30 | U9: 58 | V9: 20 | W9: 23 | X9: 66
D10: 認知件数 | F10: うち）既届 | H10: 3 | I10: 1 | J10: 29 | K10: 131 | L10: 1 | M10: 1851 | N10: 150 | O10: 136 | P10: 7 | Q10: 11 | R10: 117 | S10: 77 | T10: 29 | U10: 57 | V10: 19 | W10: 22 | X10: 61
D11: 被害回復額 | F11: 計 | H11: 1 | I11: 0 | J11: 6 | K11: 34 | L11: 0 | M11: 154 | N11: 91 | O11: 25 | P11: 1 | Q11: 14 | R11: 21 | S11: 31 | T11: 9 | U11: 24 | V11: 6 | W11: 9 | X11: 29
D12: 検挙件数 | F12: うち）既届 | H12: 1 | I12: 0 | J12: 6 | K12: 33 | L12: 0 | M12: 110 | N12: 90 | O12: 24 | P12: 1 | Q12: 7 | R12: 21 | S12: 23 | T12: 8 | U12: 23 | V12: 6 | W12: 8 | X12: 24 | AA12: Ｃ０４０
B13: 強 盗 | D13: 被害額 | F13: 計 | H13: 0 | I13: 0 | J13: 0 | K13: 0 | L13: 0 | M13: 0 | N13: 0 | O13: 0 | P13: 0 | Q13: 0 | R13: 0 | S13: 0 | T13: 0 | U13: 0 | V13: 0 | W13: 0 | X13: 0 | AA13: Ｐ００2
D14: 認知件数 | F14: うち）既届 | H14: 0 | I14: 0 | J14: 0 | K14: 0 | L14: 0 | M14: 0 | N14: 0 | O14: 0 | P14: 0 | Q14: 0 | R14: 0 | S14: 0 | T14: 0 | U14: 0 | V14: 0 | W14: 0 | X14: 0
D15: 被害回復額 | F15: 計 | H15: 0 | I15: 0 | J15: 0 | K15: 0 | L15: 0 | M15: 0 | N15: 0 | O15: 0 | P15: 0 | Q15: 0 | R15: 1 | S15: 0 | T15: 0 | U15: 1 | V15: 0 | W15: 0 | X15: 0
D16: 検挙件数 | F16: うち）既届 | H16: 0 | I16: 0 | J16: 0 | K16: 0 | L16: 0 | M16: 0 | N16: 0 | O16: 0 | P16: 0 | Q16: 0 | R16: 1 | S16: 0 | T16: 0 | U16: 1 | V16: 0 | W16: 0 | X16: 0
B17: 恐 喝 | D17: 被害額 | F17: 計 | H17: 0 | I17: 0 | J17: 0 | K17: 0 | L17: 0 | M17: 0 | N17: 0 | O17: 0 | P17: 0 | Q17: 0 | R17: 0 | S17: 0 | T17: 0 | U17: 0 | V17: 0 | W17: 0 | X17: 0
D18: 認知件数 | F18: うち）既届 | H18: 0 | I18: 0 | J18: 0 | K18: 0 | L18: 0 | M18: 0 | N18: 0 | O18: 0 | P18: 0 | Q18: 0 | R18: 0 | S18: 0 | T18: 0 | U18: 0 | V18: 0 | W18: 0 | X18: 0
D19: 被害回復額 | F19: 計 | H19: 0 | I19: 0 | J19: 0 | K19: 0 | L19: 0 | M19: 0 | N19: 0 | O19: 0 | P19: 0 | Q19: 0 | R19: 0 | S19: 0 | T19: 0 | U19: 0 | V19: 0 | W19: 0 | X19: 0
D20: 検挙件数 | F20: うち）既届 | H20: 0 | I20: 0 | J20: 0 | K20: 0 | L20: 0 | M20: 0 | N20: 0 | O20: 0 | P20: 0 | Q20: 0 | R20: 0 | S20: 0 | T20: 0 | U20: 0 | V20: 0 | W20: 0 | X20: 0
B21: 窃 盗 | D21: 被害額 | F21: 計 | H21: 3 | I21: 1 | J21: 29 | K21: 132 | L21: 1 | M21: 1866 | N21: 151 | O21: 138 | P21: 7 | Q21: 18 | R21: 114 | S21: 84 | T21: 30 | U21: 53 | V21: 15 | W21: 23 | X21: 66
D22: 認知件数 | F22: うち）既届 | H22: 3 | I22: 1 | J22: 29 | K22: 131 | L22: 1 | M22: 1849 | N22: 150 | O22: 136 | P22: 7 | Q22: 11 | R22: 114 | S22: 76 | T22: 29 | U22: 52 | V22: 15 | W22: 22 | X22: 61
D23: 被害回復額 | F23: 計 | H23: 1 | I23: 0 | J23: 6 | K23: 34 | L23: 0 | M23: 116 | N23: 91 | O23: 25 | P23: 1 | Q23: 14 | R23: 16 | S23: 29 | T23: 9 | U23: 21 | V23: 6 | W23: 9 | X23: 29
D24: 検挙件数 | F24: うち）既届 | H24: 1 | I24: 0 | J24: 6 | K24: 33 | L24: 0 | M24: 108 | N24: 90 | O24: 24 | P24: 1 | Q24: 7 | R24: 16 | S24: 21 | T24: 8 | U24: 20 | V24: 6 | W24: 8 | X24: 24
B25: 侵入盗 | D25: 被害額 | F25: 計 | H25: 0 | I25: 0 | J25: 0 | K25: 0 | L25: 1 | M25: 1 | N25: 6 | O25: 0 | P25: 1 | Q25: 7 | R25: 3 | S25: 24 | T25: 15 | U25: 5 | V25: 9 | W25: 10 | X25: 19
D26: 認知件数 | F26: うち）既届 | H26: 0 | I26: 0 | J26: 0 | K26: 0 | L26: 1 | M26: 1 | N26: 6 | O26: 0 | P26: 1 | Q26: 0 | R26: 3 | S26: 23 | T26: 14 | U26: 4 | V26: 9 | W26: 9 | X26: 19
D27: 被害回復額 | F27: 計 | H27: 0 | I27: 0 | J27: 0 | K27: 0 | L27: 0 | M27: 0 | N27: 7 | O27: 0 | P27: 0 | Q27: 7 | R27: 0 | S27: 8 | T27: 4 | U27: 6 | V27: 6 | W27: 7 | X27: 10
D28: 検挙件数 | F28: うち）既届 | H28: 0 | I28: 0 | J28: 0 | K28: 0 | L28: 0 | M28: 0 | N28: 7 | O28: 0 | P28: 0 | Q28: 0 | R28: 0 | S28: 7 | T28: 3 | U28: 5 | V28: 6 | W28: 6 | X28: 10
B29: 乗り物盗 | D29: 被害額 | F29: 計 | H29: 3 | I29: 0 | J29: 29 | K29: 132 | L29: 0 | M29: 1865 | N29: 0 | O29: 0 | P29: 1 | Q29: 0 | R29: 52 | S29: 3 | T29: 0 | U29: 0 | V29: 0 | W29: 0 | X29: 0
D30: 認知件数 | F30: うち）既届 | H30: 3 | I30: 0 | J30: 29 | K30: 131 | L30: 0 | M30: 1848 | N30: 0 | O30: 0 | P30: 1 | Q30: 0 | R30: 52 | S30: 3 | T30: 0 | U30: 0 | V30: 0 | W30: 0 | X30: 0
D31: 被害回復額 | F31: 計 | H31: 1 | I31: 0 | J31: 6 | K31: 34 | L31: 0 | M31: 116 | N31: 0 | O31: 0 | P31: 1 | Q31: 0 | R31: 6 | S31: 0 | T31: 0 | U31: 0 | V31: 0 | W31: 0 | X31: 0
D32: 検挙件数 | F32: うち）既届 | H32: 1 | I32: 0 | J32: 6 | K32: 33 | L32: 0 | M32: 108 | N32: 0 | O32: 0 | P32: 1 | Q32: 0 | R32: 6 | S32: 0 | T32: 0 | U32: 0 | V32: 0 | W32: 0 | X32: 0
B33: 非侵入盗 | D33: 被害額 | F33: 計 | H33: 0 | I33: 1 | J33: 0 | K33: 0 | L33: 0 | M33: 0 | N33: 145 | O33: 138 | P33: 5 | Q33: 11 | R33: 59 | S33: 57 | T33: 15 | U33: 48 | V33: 6 | W33: 13 | X33: 47
D34: 認知件数 | F34: うち）既届 | H34: 0 | I34: 1 | J34: 0 | K34: 0 | L34: 0 | M34: 0 | N34: 144 | O34: 136 | P34: 5 | Q34: 11 | R34: 59 | S34: 50 | T34: 15 | U34: 48 | V34: 6 | W34: 13 | X34: 42
D35: 被害回復額 | F35: 計 | H35: 0 | I35: 0 | J35: 0 | K35: 0 | L35: 0 | M35: 0 | N35: 84 | O35: 25 | P35: 0 | Q35: 7 | R35: 10 | S35: 21 | T35: 5 | U35: 15 | V35: 0 | W35: 2 | X35: 19
D36: 検挙件数 | F36: うち）既届 | H36: 0 | I36: 0 | J36: 0 | K36: 0 | L36: 0 | M36: 0 | N36: 83 | O36: 24 | P36: 0 | Q36: 7 | R36: 10 | S36: 14 | T36: 5 | U36: 15 | V36: 0 | W36: 2 | X36: 14
B37: 詐 欺 | D37: 被害額 | F37: 計 | H37: 0 | I37: 0 | J37: 0 | K37: 0 | L37: 0 | M37: 0 | N37: 0 | O37: 0 | P37: 0 | Q37: 0 | R37: 0 | S37: 0 | T37: 0 | U37: 3 | V37: 5 | W37: 0 | X37: 0
D38: 認知件数 | F38: うち）既届 | H38: 0 | I38: 0 | J38: 0 | K38: 0 | L38: 0 | M38: 0 | N38: 0 | O38: 0 | P38: 0 | Q38: 0 | R38: 0 | S38: 0 | T38: 0 | U38: 3 | V38: 4 | W38: 0 | X38: 0
D39: 被害回復額 | F39: 計 | H39: 0 | I39: 0 | J39: 0 | K39: 0 | L39: 0 | M39: 0 | N39: 0 | O39: 0 | P39: 0 | Q39: 0 | R39: 0 | S39: 1 | T39: 0 | U39: 1 | V39: 0 | W39: 0 | X39: 0
D40: 検挙件数 | F40: うち）既届 | H40: 0 | I40: 0 | J40: 0 | K40: 0 | L40: 0 | M40: 0 | N40: 0 | O40: 0 | P40: 0 | Q40: 0 | R40: 0 | S40: 1 | T40: 0 | U40: 1 | V40: 0 | W40: 0 | X40: 0
B41: 横 領 | D41: 被害額 | F41: 計 | H41: 0 | I41: 0 | J41: 0 | K41: 0 | L41: 0 | M41: 0 | N41: 0 | O41: 0 | P41: 0 | Q41: 0 | R41: 3 | S41: 0 | T41: 0 | U41: 0 | V41: 0 | W41: 0 | X41: 0
...

Sheet 28(3)
B1: 28 財産犯 被害額・被害回復額 対前年比較及び被害品別 認知・検挙件数（３）
T2: 「被害回復額・検挙件数は、
T3: 発生地計上方式による。」
E5: 品 目 | H5: 室外機 | I5: その他の機械器具等 | J5: クレジット カード | K5: キャッシュ カード | L5: 消費者金融 カード | M5: プリペイド カード | N5: その他のカード | O5: 手形・ 小切手 | P5: 印紙・ 切手 | Q5: 商品券 | R5: 乗車券 | S5: その他の 有価証券 | T5: 預金通帳・ 預金証書 | U5: 運転免許証 | V5: 健康保険証 | W5: パスポート | X5: マイナンバーカード
D6: 被害・
D7: 被害回復
A8: 罪 種 | D8: 認知・検挙 | H8: 件数 | I8: 件数 | J8: 件数 | K8: 件数 | L8: 件数 | M8: 件数 | N8: 件数 | O8: 件数 | P8: 件数 | Q8: 件数 | R8: 件数 | S8: 件数 | T8: 件数 | U8: 件数 | V8: 件数 | W8: 件数 | X8: 件数
B9: 総 数 | D9: 被害額 | F9: 計 | H9: 70 | I9: 226 | J9: 166 | K9: 226 | L9: 1 | M9: 17 | N9: 76 | O9: 1 | P9: 9 | Q9: 15 | R9: 0 | S9: 5 | T9: 64 | U9: 108 | V9: 35 | W9: 4 | X9: 40
D10: 認知件数 | F10: うち）既届 | H10: 65 | I10: 217 | J10: 156 | K10: 209 | L10: 1 | M10: 17 | N10: 76 | O10: 1 | P10: 9 | Q10: 14 | R10: 0 | S10: 5 | T10: 62 | U10: 107 | V10: 35 | W10: 4 | X10: 40
D11: 被害回復額 | F11: 計 | H11: 25 | I11: 84 | J11: 74 | K11: 106 | L11: 0 | M11: 8 | N11: 32 | O11: 0 | P11: 2 | Q11: 5 | R11: 0 | S11: 2 | T11: 29 | U11: 37 | V11: 14 | W11: 2 | X11: 14
D12: 検挙件数 | F12: うち）既届 | H12: 19 | I12: 77 | J12: 65 | K12: 90 | L12: 0 | M12: 8 | N12: 31 | O12: 0 | P12: 2 | Q12: 4 | R12: 0 | S12: 2 | T12: 26 | U12: 36 | V12: 13 | W12: 2 | X12: 14
B13: 強 盗 | D13: 被害額 | F13: 計 | H13: 0 | I13: 0 | J13: 0 | K13: 0 | L13: 0 | M13: 0 | N13: 0 | O13: 0 | P13: 0 | Q13: 1 | R13: 0 | S13: 0 | T13: 0 | U13: 0 | V13: 0 | W13: 0 | X13: 0 | Z13: Ｃ０４０
D14: 認知件数 | F14: うち）既届 | H14: 0 | I14: 0 | J14: 0 | K14: 0 | L14: 0 | M14: 0 | N14: 0 | O14: 0 | P14: 0 | Q14: 1 | R14: 0 | S14: 0 | T14: 0 | U14: 0 | V14: 0 | W14: 0 | X14: 0 | Z14: Ｐ００３
D15: 被害回復額 | F15: 計 | H15: 0 | I15: 0 | J15: 0 | K15: 0 | L15: 0 | M15: 0 | N15: 0 | O15: 0 | P15: 0 | Q15: 1 | R15: 0 | S15: 0 | T15: 0 | U15: 0 | V15: 0 | W15: 0 | X15: 0
D16: 検挙件数 | F16: うち）既届 | H16: 0 | I16: 0 | J16: 0 | K16: 0 | L16: 0 | M16: 0 | N16: 0 | O16: 0 | P16: 0 | Q16: 1 | R16: 0 | S16: 0 | T16: 0 | U16: 0 | V16: 0 | W16: 0 | X16: 0
B17: 恐 喝 | D17: 被害額 | F17: 計 | H17: 0 | I17: 0 | J17: 0 | K17: 0 | L17: 0 | M17: 0 | N17: 0 | O17: 0 | P17: 0 | Q17: 0 | R17: 0 | S17: 0 | T17: 0 | U17: 0 | V17: 0 | W17: 0 | X17: 0
D18: 認知件数 | F18: うち）既届 | H18: 0 | I18: 0 | J18: 0 | K18: 0 | L18: 0 | M18: 0 | N18: 0 | O18: 0 | P18: 0 | Q18: 0 | R18: 0 | S18: 0 | T18: 0 | U18: 0 | V18: 0 | W18: 0 | X18: 0
D19: 被害回復額 | F19: 計 | H19: 0 | I19: 0 | J19: 0 | K19: 0 | L19: 0 | M19: 0 | N19: 0 | O19: 0 | P19: 0 | Q19: 0 | R19: 0 | S19: 0 | T19: 0 | U19: 0 | V19: 0 | W19: 0 | X19: 0
D20: 検挙件数 | F20: うち）既届 | H20: 0 | I20: 0 | J20: 0 | K20: 0 | L20: 0 | M20: 0 | N20: 0 | O20: 0 | P20: 0 | Q20: 0 | R20: 0 | S20: 0 | T20: 0 | U20: 0 | V20: 0 | W20: 0 | X20: 0
B21: 窃 盗 | D21: 被害額 | F21: 計 | H21: 70 | I21: 222 | J21: 157 | K21: 189 | L21: 1 | M21: 13 | N21: 70 | O21: 1 | P21: 9 | Q21: 13 | R21: 0 | S21: 5 | T21: 53 | U21: 101 | V21: 31 | W21: 4 | X21: 39
D22: 認知件数 | F22: うち）既届 | H22: 65 | I22: 213 | J22: 148 | K22: 187 | L22: 1 | M22: 13 | N22: 70 | O22: 1 | P22: 9 | Q22: 13 | R22: 0 | S22: 5 | T22: 52 | U22: 101 | V22: 31 | W22: 4 | X22: 39
D23: 被害回復額 | F23: 計 | H23: 25 | I23: 83 | J23: 65 | K23: 75 | L23: 0 | M23: 5 | N23: 26 | O23: 0 | P23: 2 | Q23: 3 | R23: 0 | S23: 1 | T23: 19 | U23: 32 | V23: 9 | W23: 2 | X23: 13
D24: 検挙件数 | F24: うち）既届 | H24: 19 | I24: 76 | J24: 57 | K24: 74 | L24: 0 | M24: 5 | N24: 25 | O24: 0 | P24: 2 | Q24: 3 | R24: 0 | S24: 1 | T24: 18 | U24: 32 | V24: 9 | W24: 2 | X24: 13
B25: 侵入盗 | D25: 被害額 | F25: 計 | H25: 10 | I25: 67 | J25: 30 | K25: 36 | L25: 0 | M25: 2 | N25: 13 | O25: 1 | P25: 9 | Q25: 9 | R25: 0 | S25: 0 | T25: 28 | U25: 7 | V25: 3 | W25: 3 | X25: 3
D26: 認知件数 | F26: うち）既届 | H26: 10 | I26: 62 | J26: 29 | K26: 36 | L26: 0 | M26: 2 | N26: 13 | O26: 1 | P26: 9 | Q26: 9 | R26: 0 | S26: 0 | T26: 28 | U26: 7 | V26: 3 | W26: 3 | X26: 3
D27: 被害回復額 | F27: 計 | H27: 2 | I27: 27 | J27: 13 | K27: 16 | L27: 0 | M27: 1 | N27: 6 | O27: 0 | P27: 2 | Q27: 2 | R27: 0 | S27: 0 | T27: 11 | U27: 2 | V27: 0 | W27: 1 | X27: 1
D28: 検挙件数 | F28: うち）既届 | H28: 1 | I28: 22 | J28: 12 | K28: 16 | L28: 0 | M28: 1 | N28: 6 | O28: 0 | P28: 2 | Q28: 2 | R28: 0 | S28: 0 | T28: 11 | U28: 2 | V28: 0 | W28: 1 | X28: 1
B29: 乗り物盗 | D29: 被害額 | F29: 計 | H29: 0 | I29: 4 | J29: 4 | K29: 7 | L29: 0 | M29: 0 | N29: 8 | O29: 0 | P29: 0 | Q29: 0 | R29: 0 | S29: 0 | T29: 2 | U29: 4 | V29: 0 | W29: 0 | X29: 2
D30: 認知件数 | F30: うち）既届 | H30: 0 | I30: 4 | J30: 4 | K30: 7 | L30: 0 | M30: 0 | N30: 8 | O30: 0 | P30: 0 | Q30: 0 | R30: 0 | S30: 0 | T30: 2 | U30: 4 | V30: 0 | W30: 0 | X30: 2
D31: 被害回復額 | F31: 計 | H31: 0 | I31: 0 | J31: 3 | K31: 5 | L31: 0 | M31: 0 | N31: 5 | O31: 0 | P31: 0 | Q31: 0 | R31: 0 | S31: 0 | T31: 1 | U31: 3 | V31: 0 | W31: 0 | X31: 0
D32: 検挙件数 | F32: うち）既届 | H32: 0 | I32: 0 | J32: 3 | K32: 5 | L32: 0 | M32: 0 | N32: 4 | O32: 0 | P32: 0 | Q32: 0 | R32: 0 | S32: 0 | T32: 1 | U32: 3 | V32: 0 | W32: 0 | X32: 0
B33: 非侵入盗 | D33: 被害額 | F33: 計 | H33: 60 | I33: 151 | J33: 123 | K33: 146 | L33: 1 | M33: 11 | N33: 49 | O33: 0 | P33: 0 | Q33: 4 | R33: 0 | S33: 5 | T33: 23 | U33: 90 | V33: 28 | W33: 1 | X33: 34
D34: 認知件数 | F34: うち）既届 | H34: 55 | I34: 147 | J34: 115 | K34: 144 | L34: 1 | M34: 11 | N34: 49 | O34: 0 | P34: 0 | Q34: 4 | R34: 0 | S34: 5 | T34: 22 | U34: 90 | V34: 28 | W34: 1 | X34: 34
D35: 被害回復額 | F35: 計 | H35: 23 | I35: 56 | J35: 49 | K35: 54 | L35: 0 | M35: 4 | N35: 15 | O35: 0 | P35: 0 | Q35: 1 | R35: 0 | S35: 1 | T35: 7 | U35: 27 | V35: 9 | W35: 1 | X35: 12
D36: 検挙件数 | F36: うち）既届 | H36: 18 | I36: 54 | J36: 42 | K36: 53 | L36: 0 | M36: 4 | N36: 15 | O36: 0 | P36: 0 | Q36: 1 | R36: 0 | S36: 1 | T36: 6 | U36: 27 | V36: 9 | W36: 1 | X36: 12
B37: 詐 欺 | D37: 被害額 | F37: 計 | H37: 0 | I37: 1 | J37: 1 | K37: 33 | L37: 0 | M37: 3 | N37: 0 | O37: 0 | P37: 0 | Q37: 1 | R37: 0 | S37: 0 | T37: 11 | U37: 1 | V37: 1 | W37: 0 | X37: 0
D38: 認知件数 | F38: うち）既届 | H38: 0 | I38: 1 | J38: 1 | K38: 19 | L38: 0 | M38: 3 | N38: 0 | O38: 0 | P38: 0 | Q38: 0 | R38: 0 | S38: 0 | T38: 10 | U38: 1 | V38: 1 | W38: 0 | X38: 0
D39: 被害回復額 | F39: 計 | H39: 0 | I39: 0 | J39: 1 | K39: 25 | L39: 0 | M39: 0 | N39: 0 | O39: 0 | P39: 0 | Q39: 1 | R39: 0 | S39: 1 | T39: 10 | U39: 1 | V39: 1 | W39: 0 | X39: 0
D40: 検挙件数 | F40: うち）既届 | H40: 0 | I40: 0 | J40: 1 | K40: 11 | L40: 0 | M40: 0 | N40: 0 | O40: 0 | P40: 0 | Q40: 0 | R40: 0 | S40: 1 | T40: 8 | U40: 1 | V40: 1 | W40: 0 | X40: 0
B41: 横 領 | D41: 被害額 | F41: 計 | H41: 0 | I41: 2 | J41: 0 | K41: 0 | L41: 0 | M41: 0 | N41: 0 | O41: 0 | P41: 0 | Q41: 0 | R41: 0 | S41: 0 | T41: 0 | U41: 0 | V41: 0 | W41: 0 | X41: 0
...

Sheet 28(4)
B1: 28 財産犯 被害額・被害回復額 対前年比較及び被害品別 認知・検挙件数（４）
V2: 「被害回復額・検挙件数は、
V3: 発生地計上方式による。」
E5: 品 目 | H5: 身分証明書 | I5: 絵画 | J5: 彫刻 | K5: その他の美術骨董品 | L5: 貴金属・宝石等 | M5: 時計類 | N5: その他の貴重品・装身具等 | O5: 農作物 | P5: 衣料品類 | Q5: バッグ ・財布類 | R5: 金属類（銅板、銅線、溝蓋・マンホール等） | S5: 食料品類 | T5: 外国通貨 | U5: 化粧品類 | V5: 医薬品 | W5: 書籍 | X5: その他
D6: 被害・
D7: 被害回復
A8: 罪 種 | D8: 認知・検挙 | H8: 件数 | I8: 件数 | J8: 件数 | K8: 件数 | L8: 件数 | M8: 件数 | N8: 件数 | O8: 件数 | P8: 件数 | Q8: 件数 | R8: 件数 | S8: 件数 | T8: 件数 | U8: 件数 | V8: 件数 | W8: 件数 | X8: 件数
B9: 総 数 | D9: 被害額 | F9: 計 | H9: 11 | I9: 3 | J9: 0 | K9: 4 | L9: 104 | M9: 57 | N9: 66 | O9: 29 | P9: 383 | Q9: 465 | R9: 489 | S9: 851 | T9: 4 | U9: 149 | V9: 180 | W9: 55 | X9: 1057
D10: 認知件数 | F10: うち）既届 | H10: 11 | I10: 3 | J10: 0 | K10: 4 | L10: 99 | M10: 56 | N10: 63 | O10: 29 | P10: 341 | Q10: 456 | R10: 422 | S10: 789 | T10: 4 | U10: 148 | V10: 177 | W10: 51 | X10: 1032
D11: 被害回復額 | F11: 計 | H11: 1 | I11: 2 | J11: 1 | K11: 3 | L11: 50 | M11: 25 | N11: 34 | O11: 9 | P11: 183 | Q11: 178 | R11: 336 | S11: 664 | T11: 3 | U11: 66 | V11: 80 | W11: 37 | X11: 439
D12: 検挙件数 | F12: うち）既届 | H12: 1 | I12: 2 | J12: 1 | K12: 3 | L12: 46 | M12: 24 | N12: 32 | O12: 9 | P12: 137 | Q12: 172 | R12: 268 | S12: 608 | T12: 3 | U12: 66 | V12: 77 | W12: 33 | X12: 418 | AB12: Ｃ０４０
B13: 強 盗 | D13: 被害額 | F13: 計 | H13: 0 | I13: 0 | J13: 0 | K13: 0 | L13: 0 | M13: 0 | N13: 0 | O13: 0 | P13: 1 | Q13: 1 | R13: 0 | S13: 1 | T13: 0 | U13: 0 | V13: 1 | W13: 0 | X13: 1 | AB13: Ｐ００３
D14: 認知件数 | F14: うち）既届 | H14: 0 | I14: 0 | J14: 0 | K14: 0 | L14: 0 | M14: 0 | N14: 0 | O14: 0 | P14: 1 | Q14: 1 | R14: 0 | S14: 1 | T14: 0 | U14: 0 | V14: 1 | W14: 0 | X14: 1
D15: 被害回復額 | F15: 計 | H15: 0 | I15: 0 | J15: 0 | K15: 0 | L15: 0 | M15: 0 | N15: 1 | O15: 0 | P15: 1 | Q15: 1 | R15: 0 | S15: 1 | T15: 0 | U15: 0 | V15: 1 | W15: 0 | X15: 1
D16: 検挙件数 | F16: うち）既届 | H16: 0 | I16: 0 | J16: 0 | K16: 0 | L16: 0 | M16: 0 | N16: 1 | O16: 0 | P16: 1 | Q16: 1 | R16: 0 | S16: 1 | T16: 0 | U16: 0 | V16: 1 | W16: 0 | X16: 1
B17: 恐 喝 | D17: 被害額 | F17: 計 | H17: 0 | I17: 0 | J17: 0 | K17: 0 | L17: 0 | M17: 0 | N17: 0 | O17: 0 | P17: 0 | Q17: 1 | R17: 0 | S17: 0 | T17: 0 | U17: 0 | V17: 0 | W17: 0 | X17: 0
D18: 認知件数 | F18: うち）既届 | H18: 0 | I18: 0 | J18: 0 | K18: 0 | L18: 0 | M18: 0 | N18: 0 | O18: 0 | P18: 0 | Q18: 1 | R18: 0 | S18: 0 | T18: 0 | U18: 0 | V18: 0 | W18: 0 | X18: 0
D19: 被害回復額 | F19: 計 | H19: 0 | I19: 0 | J19: 0 | K19: 0 | L19: 0 | M19: 0 | N19: 0 | O19: 0 | P19: 0 | Q19: 1 | R19: 0 | S19: 0 | T19: 0 | U19: 0 | V19: 0 | W19: 0 | X19: 0
D20: 検挙件数 | F20: うち）既届 | H20: 0 | I20: 0 | J20: 0 | K20: 0 | L20: 0 | M20: 0 | N20: 0 | O20: 0 | P20: 0 | Q20: 1 | R20: 0 | S20: 0 | T20: 0 | U20: 0 | V20: 0 | W20: 0 | X20: 0
B21: 窃 盗 | D21: 被害額 | F21: 計 | H21: 11 | I21: 3 | J21: 0 | K21: 4 | L21: 101 | M21: 56 | N21: 65 | O21: 28 | P21: 381 | Q21: 449 | R21: 489 | S21: 804 | T21: 4 | U21: 147 | V21: 179 | W21: 55 | X21: 1011
D22: 認知件数 | F22: うち）既届 | H22: 11 | I22: 3 | J22: 0 | K22: 4 | L22: 97 | M22: 56 | N22: 62 | O22: 28 | P22: 339 | Q22: 441 | R22: 422 | S22: 744 | T22: 4 | U22: 146 | V22: 176 | W22: 51 | X22: 992
D23: 被害回復額 | F23: 計 | H23: 1 | I23: 2 | J23: 1 | K23: 3 | L23: 49 | M23: 24 | N23: 32 | O23: 8 | P23: 180 | Q23: 163 | R23: 336 | S23: 619 | T23: 3 | U23: 65 | V23: 79 | W23: 37 | X23: 416
D24: 検挙件数 | F24: うち）既届 | H24: 1 | I24: 2 | J24: 1 | K24: 3 | L24: 46 | M24: 24 | N24: 30 | O24: 8 | P24: 134 | Q24: 158 | R24: 268 | S24: 564 | T24: 3 | U24: 65 | V24: 76 | W24: 33 | X24: 399
B25: 侵入盗 | D25: 被害額 | F25: 計 | H25: 2 | I25: 3 | J25: 0 | K25: 2 | L25: 92 | M25: 47 | N25: 27 | O25: 5 | P25: 27 | Q25: 98 | R25: 93 | S25: 43 | T25: 3 | U25: 1 | V25: 5 | W25: 2 | X25: 142
D26: 認知件数 | F26: うち）既届 | H26: 2 | I26: 3 | J26: 0 | K26: 2 | L26: 88 | M26: 47 | N26: 27 | O26: 5 | P26: 21 | Q26: 96 | R26: 49 | S26: 33 | T26: 3 | U26: 1 | V26: 2 | W26: 2 | X26: 132
D27: 被害回復額 | F27: 計 | H27: 0 | I27: 2 | J27: 1 | K27: 3 | L27: 42 | M27: 24 | N27: 21 | O27: 0 | P27: 21 | Q27: 45 | R27: 65 | S27: 26 | T27: 3 | U27: 3 | V27: 5 | W27: 1 | X27: 79
D28: 検挙件数 | F28: うち）既届 | H28: 0 | I28: 2 | J28: 1 | K28: 3 | L28: 39 | M28: 24 | N28: 20 | O28: 0 | P28: 15 | Q28: 45 | R28: 20 | S28: 18 | T28: 3 | U28: 3 | V28: 2 | W28: 1 | X28: 69
B29: 乗り物盗 | D29: 被害額 | F29: 計 | H29: 0 | I29: 0 | J29: 0 | K29: 0 | L29: 1 | M29: 2 | N29: 7 | O29: 0 | P29: 68 | Q29: 18 | R29: 0 | S29: 1 | T29: 0 | U29: 0 | V29: 0 | W29: 0 | X29: 164
D30: 認知件数 | F30: うち）既届 | H30: 0 | I30: 0 | J30: 0 | K30: 0 | L30: 1 | M30: 2 | N30: 6 | O30: 0 | P30: 68 | Q30: 18 | R30: 0 | S30: 1 | T30: 0 | U30: 0 | V30: 0 | W30: 0 | X30: 164
D31: 被害回復額 | F31: 計 | H31: 0 | I31: 0 | J31: 0 | K31: 0 | L31: 1 | M31: 0 | N31: 2 | O31: 1 | P31: 12 | Q31: 6 | R31: 0 | S31: 1 | T31: 0 | U31: 0 | V31: 0 | W31: 0 | X31: 23
D32: 検挙件数 | F32: うち）既届 | H32: 0 | I32: 0 | J32: 0 | K32: 0 | L32: 1 | M32: 0 | N32: 1 | O32: 1 | P32: 12 | Q32: 5 | R32: 0 | S32: 1 | T32: 0 | U32: 0 | V32: 0 | W32: 0 | X32: 23
B33: 非侵入盗 | D33: 被害額 | F33: 計 | H33: 9 | I33: 0 | J33: 0 | K33: 2 | L33: 8 | M33: 7 | N33: 31 | O33: 23 | P33: 286 | Q33: 333 | R33: 396 | S33: 760 | T33: 1 | U33: 146 | V33: 174 | W33: 53 | X33: 705
D34: 認知件数 | F34: うち）既届 | H34: 9 | I34: 0 | J34: 0 | K34: 2 | L34: 8 | M34: 7 | N34: 29 | O34: 23 | P34: 250 | Q34: 327 | R34: 373 | S34: 710 | T34: 1 | U34: 145 | V34: 174 | W34: 49 | X34: 696
D35: 被害回復額 | F35: 計 | H35: 1 | I35: 0 | J35: 0 | K35: 0 | L35: 6 | M35: 0 | N35: 9 | O35: 7 | P35: 147 | Q35: 112 | R35: 271 | S35: 592 | T35: 0 | U35: 62 | V35: 74 | W35: 36 | X35: 314
D36: 検挙件数 | F36: うち）既届 | H36: 1 | I36: 0 | J36: 0 | K36: 0 | L36: 6 | M36: 0 | N36: 9 | O36: 7 | P36: 107 | Q36: 108 | R36: 248 | S36: 545 | T36: 0 | U36: 62 | V36: 74 | W36: 32 | X36: 307
B37: 詐 欺 | D37: 被害額 | F37: 計 | H37: 0 | I37: 0 | J37: 0 | K37: 0 | L37: 3 | M37: 1 | N37: 0 | O37: 1 | P37: 0 | Q37: 1 | R37: 0 | S37: 44 | T37: 0 | U37: 1 | V37: 0 | W37: 0 | X37: 38
D38: 認知件数 | F38: うち）既届 | H38: 0 | I38: 0 | J38: 0 | K38: 0 | L38: 2 | M38: 0 | N38: 0 | O38: 1 | P38: 0 | Q38: 0 | R38: 0 | S38: 42 | T38: 0 | U38: 1 | V38: 0 | W38: 0 | X38: 32
D39: 被害回復額 | F39: 計 | H39: 0 | I39: 0 | J39: 0 | K39: 0 | L39: 1 | M39: 1 | N39: 0 | O39: 1 | P39: 1 | Q39: 1 | R39: 0 | S39: 42 | T39: 0 | U39: 0 | V39: 0 | W39: 0 | X39: 19
D40: 検挙件数 | F40: うち）既届 | H40: 0 | I40: 0 | J40: 0 | K40: 0 | L40: 0 | M40: 0 | N40: 0 | O40: 1 | P40: 1 | Q40: 0 | R40: 0 | S40: 41 | T40: 0 | U40: 0 | V40: 0 | W40: 0 | X40: 15
B41: 横 領 | D41: 被害額 | F41: 計 | H41: 0 | I41: 0 | J41: 0 | K41: 0 | L41: 0 | M41: 0 | N41: 0 | O41: 0 | P41: 0 | Q41: 0 | R41: 0 | S41: 2 | T41: 0 | U41: 0 | V41: 0 | W41: 0 | X41: 1
...
